BEGIN:VCALENDAR
VERSION:2.0
PRODID:-//www.neguard.org//NONSGML kigkonsult.se iCalcreator 2.30.10//
CALSCALE:GREGORIAN
METHOD:PUBLISH
UID:3b5b1211-5813-4b88-b849-bea21d99e833
X-WR-CALDESC:Every month\, retirees meet for breakfast to hear presenters\,
  share stories\, \nand learn more about retirement.\n
X-WR-RELCALID:4dbbcc38e91a8554011d22d8c39e3a56
X-WR-TIMEZONE:America/Chicago
BEGIN:VTIMEZONE
TZID:America/Chicago
BEGIN:STANDARD
TZNAME:CST
DTSTART:20281105T020000
TZOFFSETFROM:-0500
TZOFFSETTO:-0600
RDATE:20291104T020000
END:STANDARD
BEGIN:DAYLIGHT
TZNAME:CDT
DTSTART:20280312T020000
TZOFFSETFROM:-0600
TZOFFSETTO:-0500
RDATE:20290311T020000
RDATE:20300310T020000
END:DAYLIGHT
END:VTIMEZONE
BEGIN:VEVENT
UID:9997954b-8b03-47d6-a53b-2a26b0eecebe
DTSTAMP:20260422T083355Z
DESCRIPTION:Every month\, retirees meet for breakfast to hear presenters\, 
 share stories\, \nand learn more about retirement.\n
DTSTART;TZID=America/Chicago:20290305T070000
DTEND;TZID=America/Chicago:20290305T083000
LOCATION:Virginia's Cafe at 3820 Cornhusker Lincoln\, NE
SUMMARY:Army National Guard Retiree Breakfast
END:VEVENT
END:VCALENDAR
