BEGIN:VCALENDAR
VERSION:2.0
PRODID:-//www.neguard.org//NONSGML kigkonsult.se iCalcreator 2.30.10//
CALSCALE:GREGORIAN
METHOD:PUBLISH
UID:750379de-4e8e-460f-9849-3c2f565c245e
X-WR-CALDESC:Every month\, retirees meet for breakfast to hear presenters\,
  share stories\, and learn more about retirement.
X-WR-RELCALID:d21b143f5a41a2ba165f32cc33d7fdae
X-WR-TIMEZONE:America/Chicago
BEGIN:VTIMEZONE
TZID:America/Chicago
BEGIN:STANDARD
TZNAME:CST
DTSTART:20281105T020000
TZOFFSETFROM:-0500
TZOFFSETTO:-0600
RDATE:20291104T020000
END:STANDARD
BEGIN:DAYLIGHT
TZNAME:CDT
DTSTART:20280312T020000
TZOFFSETFROM:-0600
TZOFFSETTO:-0500
RDATE:20290311T020000
RDATE:20300310T020000
END:DAYLIGHT
END:VTIMEZONE
BEGIN:VEVENT
UID:da162c47-c935-4bd9-9aca-d563b0563076
DTSTAMP:20260422T082632Z
DESCRIPTION:Every month\, retirees meet for breakfast to hear presenters\, 
 share stories\, and learn more about retirement.
DTSTART;TZID=America/Chicago:20281209T080000
DTEND;TZID=America/Chicago:20281209T090000
LOCATION:Lincoln Highway Diner\, North Platte Airport\, North Platte\, NE
SUMMARY:North Platte Retiree Breakfast
END:VEVENT
END:VCALENDAR
