BEGIN:VCALENDAR
VERSION:2.0
PRODID:-//www.neguard.org//NONSGML kigkonsult.se iCalcreator 2.30.10//
CALSCALE:GREGORIAN
METHOD:PUBLISH
UID:f5f921e1-9204-4048-acbd-cc711660716d
X-WR-CALDESC:
X-WR-RELCALID:ebdd422bf4726162fd3d6f087cd3f271
X-WR-TIMEZONE:America/Chicago
BEGIN:VTIMEZONE
TZID:America/Chicago
BEGIN:STANDARD
TZNAME:CST
DTSTART:20231105T020000
TZOFFSETFROM:-0500
TZOFFSETTO:-0600
RDATE:20241103T020000
RDATE:20251102T020000
END:STANDARD
BEGIN:DAYLIGHT
TZNAME:CDT
DTSTART:20240310T020000
TZOFFSETFROM:-0600
TZOFFSETTO:-0500
RDATE:20250309T020000
END:DAYLIGHT
END:VTIMEZONE
BEGIN:VEVENT
UID:5176a69e-b292-4f3d-b57f-8ea16726415c
DTSTAMP:20260422T103502Z
DESCRIPTION:
DTSTART;TZID=America/Chicago:20240508T190000
DTEND;TZID=America/Chicago:20240508T203000
LOCATION:American Legion Post #52\, 1223 Central Ave\, Kearney\, NE 68847 U
 S
SUMMARY:Kearney Retiree Briefing
END:VEVENT
END:VCALENDAR
