BEGIN:VCALENDAR
VERSION:2.0
PRODID:-//www.neguard.org//NONSGML kigkonsult.se iCalcreator 2.30.10//
CALSCALE:GREGORIAN
METHOD:PUBLISH
UID:758d58f9-d7e9-4a82-a3df-032266f6517d
X-WR-CALDESC:Every month\, retirees meet for breakfast to hear presenters\,
  share stories\, \nand learn more about retirement.\n
X-WR-RELCALID:afba10d341d1ab8ad91dea6a7fe1c7dc
X-WR-TIMEZONE:America/Chicago
BEGIN:VTIMEZONE
TZID:America/Chicago
BEGIN:STANDARD
TZNAME:CST
DTSTART:20231105T020000
TZOFFSETFROM:-0500
TZOFFSETTO:-0600
RDATE:20241103T020000
RDATE:20251102T020000
END:STANDARD
BEGIN:DAYLIGHT
TZNAME:CDT
DTSTART:20240310T020000
TZOFFSETFROM:-0600
TZOFFSETTO:-0500
RDATE:20250309T020000
END:DAYLIGHT
END:VTIMEZONE
BEGIN:VEVENT
UID:f7d95eba-6e61-4cca-94a5-f081198c6492
DTSTAMP:20260422T100045Z
DESCRIPTION:Every month\, retirees meet for breakfast to hear presenters\, 
 share stories\, \nand learn more about retirement.\n
DTSTART;TZID=America/Chicago:20240506T070000
DTEND;TZID=America/Chicago:20240506T083000
LOCATION:Virginia's Cafe at 3820 Cornhusker Lincoln\, NE
SUMMARY:Army National Guard Retiree Breakfast
END:VEVENT
END:VCALENDAR
