BEGIN:VCALENDAR
VERSION:2.0
PRODID:-//www.neguard.org//NONSGML kigkonsult.se iCalcreator 2.30.10//
CALSCALE:GREGORIAN
METHOD:PUBLISH
UID:f3074a3e-0201-48d6-a13f-b2dadd821bf1
X-WR-CALDESC:
X-WR-RELCALID:444520770e3b938c95a39ce13c53f44c
X-WR-TIMEZONE:America/Chicago
BEGIN:VTIMEZONE
TZID:America/Chicago
BEGIN:STANDARD
TZNAME:CST
DTSTART:20231105T020000
TZOFFSETFROM:-0500
TZOFFSETTO:-0600
RDATE:20241103T020000
END:STANDARD
BEGIN:DAYLIGHT
TZNAME:CDT
DTSTART:20240310T020000
TZOFFSETFROM:-0600
TZOFFSETTO:-0500
RDATE:20250309T020000
END:DAYLIGHT
END:VTIMEZONE
BEGIN:VEVENT
UID:dbdbac85-622e-4977-a86c-f921c69c5d70
DTSTAMP:20260422T112952Z
DESCRIPTION:
DTSTART;TZID=America/Chicago:20240429T090000
DTEND;TZID=America/Chicago:20240429T160000
LOCATION:Crooked Creek Golf Club\, 333 S 134th St\, Lincoln\, AL 68520 US
SUMMARY:2024 NGANE Steve Rein Memorial Golf Tournament
END:VEVENT
END:VCALENDAR
