BEGIN:VCALENDAR
VERSION:2.0
PRODID:-//www.neguard.org//NONSGML kigkonsult.se iCalcreator 2.30.10//
CALSCALE:GREGORIAN
METHOD:PUBLISH
UID:4394034c-54df-4101-8344-fb1dea419671
X-WR-CALDESC:
X-WR-RELCALID:894f0dcbf0c4677996239583a980d612
X-WR-TIMEZONE:America/Chicago
BEGIN:VTIMEZONE
TZID:America/Chicago
BEGIN:STANDARD
TZNAME:CST
DTSTART:20231105T020000
TZOFFSETFROM:-0500
TZOFFSETTO:-0600
RDATE:20241103T020000
END:STANDARD
BEGIN:DAYLIGHT
TZNAME:CDT
DTSTART:20240310T020000
TZOFFSETFROM:-0600
TZOFFSETTO:-0500
RDATE:20250309T020000
END:DAYLIGHT
END:VTIMEZONE
BEGIN:VEVENT
UID:e86bece2-ed92-40e1-be13-8d9971e73867
DTSTAMP:20260422T113735Z
DESCRIPTION:
DTSTART;TZID=America/Chicago:20240417T080000
DTEND;TZID=America/Chicago:20240417T100000
LOCATION:
SUMMARY:155th Retiree Breakfast
END:VEVENT
END:VCALENDAR
