BEGIN:VCALENDAR
VERSION:2.0
PRODID:-//www.neguard.org//NONSGML kigkonsult.se iCalcreator 2.30.10//
CALSCALE:GREGORIAN
METHOD:PUBLISH
UID:64dd0ef1-e5ad-46ef-9fc7-97111551c2a3
X-WR-CALDESC:Monthly meeting of the Executive Committee and the Board of Go
 vernors
X-WR-RELCALID:078efdce94d3caf062064f0bdc4fb6f9
X-WR-TIMEZONE:America/Chicago
BEGIN:VTIMEZONE
TZID:America/Chicago
BEGIN:STANDARD
TZNAME:CST
DTSTART:20181104T020000
TZOFFSETFROM:-0500
TZOFFSETTO:-0600
RDATE:20191103T020000
RDATE:20201101T020000
END:STANDARD
BEGIN:DAYLIGHT
TZNAME:CDT
DTSTART:20190310T020000
TZOFFSETFROM:-0600
TZOFFSETTO:-0500
RDATE:20200308T020000
END:DAYLIGHT
END:VTIMEZONE
BEGIN:VEVENT
UID:e4314900-fa75-415a-87ed-e690fe2e4e3a
DTSTAMP:20260424T142811Z
DESCRIPTION:Monthly meeting of the Executive Committee and the Board of Gov
 ernors
DTSTART;TZID=America/Chicago:20190702T164500
DTEND;TZID=America/Chicago:20190702T180000
LOCATION:Via Teleconference until further notice. Please email ngane@neguar
 d.org for teleconference information.
SUMMARY:BOG Meeting
END:VEVENT
END:VCALENDAR
