BEGIN:VCALENDAR
VERSION:2.0
PRODID:-//www.neguard.org//NONSGML kigkonsult.se iCalcreator 2.30.10//
CALSCALE:GREGORIAN
METHOD:PUBLISH
UID:e27831f2-cb54-476d-b183-c4ea22ea31ea
X-WR-CALDESC:Every month\, retirees meet for breakfast to hear presenters\,
  share stories\, \nand learn more about retirement.\n\n\n
X-WR-RELCALID:bbdc9844b1d249136ced772b9984c781
X-WR-TIMEZONE:America/Chicago
BEGIN:VTIMEZONE
TZID:America/Chicago
BEGIN:STANDARD
TZNAME:CST
DTSTART:20251102T020000
TZOFFSETFROM:-0500
TZOFFSETTO:-0600
RDATE:20261101T020000
END:STANDARD
BEGIN:DAYLIGHT
TZNAME:CDT
DTSTART:20260308T020000
TZOFFSETFROM:-0600
TZOFFSETTO:-0500
RDATE:20270314T020000
END:DAYLIGHT
END:VTIMEZONE
BEGIN:VEVENT
UID:9b913e18-e03d-491e-8500-6196d6f48a5d
DTSTAMP:20260421T084845Z
DESCRIPTION:Every month\, retirees meet for breakfast to hear presenters\, 
 share stories\, \nand learn more about retirement.\n\n\n
DTSTART;TZID=America/Chicago:20260330T080000
DTEND;TZID=America/Chicago:20260330T090000
LOCATION:Stauffers Cafe - 5600 S. 48th Street
SUMMARY:Air National Guard Retiree Breakfast
END:VEVENT
END:VCALENDAR
