BEGIN:VCALENDAR
VERSION:2.0
PRODID:-//www.neguard.org//NONSGML kigkonsult.se iCalcreator 2.30.10//
CALSCALE:GREGORIAN
METHOD:PUBLISH
UID:81a2f46c-4b51-40ca-940d-505468a51cbf
X-WR-CALDESC:Every month\, retirees meet for breakfast to hear presenters\,
  share stories\, and learn more about retirement.
X-WR-RELCALID:79d44344c52d4d4799be393b5e3b70a4
X-WR-TIMEZONE:America/Chicago
BEGIN:VTIMEZONE
TZID:America/Chicago
BEGIN:STANDARD
TZNAME:CST
DTSTART:20241103T020000
TZOFFSETFROM:-0500
TZOFFSETTO:-0600
RDATE:20251102T020000
RDATE:20261101T020000
END:STANDARD
BEGIN:DAYLIGHT
TZNAME:CDT
DTSTART:20250309T020000
TZOFFSETFROM:-0600
TZOFFSETTO:-0500
RDATE:20260308T020000
END:DAYLIGHT
END:VTIMEZONE
BEGIN:VEVENT
UID:651a0ba5-73f2-477e-80f9-a5405892fb56
DTSTAMP:20260422T083008Z
DESCRIPTION:Every month\, retirees meet for breakfast to hear presenters\, 
 share stories\, and learn more about retirement.
DTSTART;TZID=America/Chicago:20250712T080000
DTEND;TZID=America/Chicago:20250712T090000
LOCATION:Lincoln Highway Diner\, North Platte Airport\, North Platte\, NE
SUMMARY:North Platte Retiree Breakfast
END:VEVENT
END:VCALENDAR
