BEGIN:VCALENDAR
VERSION:2.0
PRODID:-//www.neguard.org//NONSGML kigkonsult.se iCalcreator 2.30.10//
CALSCALE:GREGORIAN
METHOD:PUBLISH
UID:b6c30926-0b1d-4c2c-a549-6eae2c5adf57
X-WR-CALDESC:Every month\, retirees meet for breakfast to hear presenters\,
  share stories\, \nand learn more about retirement.\n\n\n
X-WR-RELCALID:36ce325e7744b5774638042092b9187f
X-WR-TIMEZONE:America/Chicago
BEGIN:VTIMEZONE
TZID:America/Chicago
BEGIN:STANDARD
TZNAME:CST
DTSTART:20291104T020000
TZOFFSETFROM:-0500
TZOFFSETTO:-0600
RDATE:20301103T020000
END:STANDARD
BEGIN:DAYLIGHT
TZNAME:CDT
DTSTART:20290311T020000
TZOFFSETFROM:-0600
TZOFFSETTO:-0500
RDATE:20300310T020000
RDATE:20310309T020000
END:DAYLIGHT
END:VTIMEZONE
BEGIN:VEVENT
UID:6df85643-0a83-41a5-b688-cf0cc85569db
DTSTAMP:20260426T035656Z
DESCRIPTION:Every month\, retirees meet for breakfast to hear presenters\, 
 share stories\, \nand learn more about retirement.\n\n\n
DTSTART;TZID=America/Chicago:20300225T080000
DTEND;TZID=America/Chicago:20300225T090000
LOCATION:Stauffers Cafe - 5600 S. 48th Street
SUMMARY:Air National Guard Retiree Breakfast
END:VEVENT
END:VCALENDAR
