BEGIN:VCALENDAR
VERSION:2.0
PRODID:-//www.neguard.org//NONSGML kigkonsult.se iCalcreator 2.30.10//
CALSCALE:GREGORIAN
METHOD:PUBLISH
UID:49c3b9f9-e421-4b59-892e-5d6b2ca13592
X-WR-CALDESC:Every month\, retirees meet for breakfast to hear presenters\,
  share stories\, and learn more about retirement.
X-WR-RELCALID:5d3630ba54170f2ce109735f9cf4b835
X-WR-TIMEZONE:America/Chicago
BEGIN:VTIMEZONE
TZID:America/Chicago
BEGIN:STANDARD
TZNAME:CST
DTSTART:20291104T020000
TZOFFSETFROM:-0500
TZOFFSETTO:-0600
RDATE:20301103T020000
END:STANDARD
BEGIN:DAYLIGHT
TZNAME:CDT
DTSTART:20290311T020000
TZOFFSETFROM:-0600
TZOFFSETTO:-0500
RDATE:20300310T020000
RDATE:20310309T020000
END:DAYLIGHT
END:VTIMEZONE
BEGIN:VEVENT
UID:9bc784e8-e9a3-4ea1-adef-50eea4355c17
DTSTAMP:20260426T040504Z
DESCRIPTION:Every month\, retirees meet for breakfast to hear presenters\, 
 share stories\, and learn more about retirement.
DTSTART;TZID=America/Chicago:20300209T080000
DTEND;TZID=America/Chicago:20300209T090000
LOCATION:Lincoln Highway Diner\, North Platte Airport\, North Platte\, NE
SUMMARY:North Platte Retiree Breakfast
END:VEVENT
END:VCALENDAR
