BEGIN:VCALENDAR
VERSION:2.0
PRODID:-//www.neguard.org//NONSGML kigkonsult.se iCalcreator 2.30.10//
CALSCALE:GREGORIAN
METHOD:PUBLISH
UID:9f4ec0bd-9b21-49bc-93fc-43dcd5d43700
X-WR-CALDESC:
X-WR-RELCALID:9cd8dd82390859163d84dfc2d4ae193c
X-WR-TIMEZONE:America/Chicago
BEGIN:VTIMEZONE
TZID:America/Chicago
BEGIN:STANDARD
TZNAME:CST
DTSTART:20291104T020000
TZOFFSETFROM:-0500
TZOFFSETTO:-0600
RDATE:20301103T020000
END:STANDARD
BEGIN:DAYLIGHT
TZNAME:CDT
DTSTART:20290311T020000
TZOFFSETFROM:-0600
TZOFFSETTO:-0500
RDATE:20300310T020000
RDATE:20310309T020000
END:DAYLIGHT
END:VTIMEZONE
BEGIN:VEVENT
UID:fc3ad339-d7af-4217-a856-6827bac9d986
DTSTAMP:20260426T035838Z
DESCRIPTION:
DTSTART;TZID=America/Chicago:20300205T164500
DTEND;TZID=America/Chicago:20300205T174500
LOCATION:2400 NW 24th St.\, Lincoln\, NE 68524 US
SUMMARY:NGA-NE BOG Monthly BOG Meeting
END:VEVENT
END:VCALENDAR
