BEGIN:VCALENDAR
VERSION:2.0
PRODID:-//www.neguard.org//NONSGML kigkonsult.se iCalcreator 2.30.10//
CALSCALE:GREGORIAN
METHOD:PUBLISH
UID:cf660e34-9a5e-411a-b3cc-66d36279f453
X-WR-CALDESC:Every month\, retirees meet for breakfast to hear presenters\,
  share stories\, \nand learn more about retirement.\n\n\n
X-WR-RELCALID:d65efc5d73339bac88408a7eaf34b6d5
X-WR-TIMEZONE:America/Chicago
BEGIN:VTIMEZONE
TZID:America/Chicago
BEGIN:STANDARD
TZNAME:CST
DTSTART:20291104T020000
TZOFFSETFROM:-0500
TZOFFSETTO:-0600
RDATE:20301103T020000
END:STANDARD
BEGIN:DAYLIGHT
TZNAME:CDT
DTSTART:20290311T020000
TZOFFSETFROM:-0600
TZOFFSETTO:-0500
RDATE:20300310T020000
RDATE:20310309T020000
END:DAYLIGHT
END:VTIMEZONE
BEGIN:VEVENT
UID:f4eceef2-8101-49b6-9530-65704285c9dd
DTSTAMP:20260426T011241Z
DESCRIPTION:Every month\, retirees meet for breakfast to hear presenters\, 
 share stories\, \nand learn more about retirement.\n\n\n
DTSTART;TZID=America/Chicago:20291231T080000
DTEND;TZID=America/Chicago:20291231T090000
LOCATION:Stauffers Cafe - 5600 S. 48th Street
SUMMARY:Air National Guard Retiree Breakfast
END:VEVENT
END:VCALENDAR
