BEGIN:VCALENDAR
VERSION:2.0
PRODID:-//www.neguard.org//NONSGML kigkonsult.se iCalcreator 2.30.10//
CALSCALE:GREGORIAN
METHOD:PUBLISH
UID:5fbe76e6-0ff6-4a16-acb1-ae09a61fa0ba
X-WR-CALDESC:Every month\, retirees meet for breakfast to hear presenters\,
  share stories\, \nand learn more about retirement.\n
X-WR-RELCALID:74a8674caba6a557e4a418b149919a74
X-WR-TIMEZONE:America/Chicago
BEGIN:VTIMEZONE
TZID:America/Chicago
BEGIN:STANDARD
TZNAME:CST
DTSTART:20291104T020000
TZOFFSETFROM:-0500
TZOFFSETTO:-0600
RDATE:20301103T020000
END:STANDARD
BEGIN:DAYLIGHT
TZNAME:CDT
DTSTART:20290311T020000
TZOFFSETFROM:-0600
TZOFFSETTO:-0500
RDATE:20300310T020000
RDATE:20310309T020000
END:DAYLIGHT
END:VTIMEZONE
BEGIN:VEVENT
UID:36363090-b6e3-4b09-8c31-f55631ee8473
DTSTAMP:20260426T004715Z
DESCRIPTION:Every month\, retirees meet for breakfast to hear presenters\, 
 share stories\, \nand learn more about retirement.\n
DTSTART;TZID=America/Chicago:20291203T070000
DTEND;TZID=America/Chicago:20291203T083000
LOCATION:Virginia's Cafe at 3820 Cornhusker Lincoln\, NE
SUMMARY:Army National Guard Retiree Breakfast
END:VEVENT
END:VCALENDAR
