BEGIN:VCALENDAR
VERSION:2.0
PRODID:-//www.neguard.org//NONSGML kigkonsult.se iCalcreator 2.30.10//
CALSCALE:GREGORIAN
METHOD:PUBLISH
UID:8ef061b9-9dd7-43e9-8d7e-340e82243f2d
X-WR-CALDESC:
X-WR-RELCALID:9afab0ddf3ce2aa5f46d03d722f501a9
X-WR-TIMEZONE:America/Chicago
BEGIN:VTIMEZONE
TZID:America/Chicago
BEGIN:STANDARD
TZNAME:CST
DTSTART:20281105T020000
TZOFFSETFROM:-0500
TZOFFSETTO:-0600
RDATE:20291104T020000
RDATE:20301103T020000
END:STANDARD
BEGIN:DAYLIGHT
TZNAME:CDT
DTSTART:20290311T020000
TZOFFSETFROM:-0600
TZOFFSETTO:-0500
RDATE:20300310T020000
END:DAYLIGHT
END:VTIMEZONE
BEGIN:VEVENT
UID:dbc4653d-35a5-4502-bc2a-c3309cc608ee
DTSTAMP:20260425T184024Z
DESCRIPTION:
DTSTART;TZID=America/Chicago:20290807T164500
DTEND;TZID=America/Chicago:20290807T174500
LOCATION:2400 NW 24th St.\, Lincoln\, NE 68524 US
SUMMARY:NGA-NE BOG Monthly BOG Meeting
END:VEVENT
END:VCALENDAR
