BEGIN:VCALENDAR
VERSION:2.0
PRODID:-//www.neguard.org//NONSGML kigkonsult.se iCalcreator 2.30.10//
CALSCALE:GREGORIAN
METHOD:PUBLISH
UID:61523e33-9d9d-420c-aa75-e752fd830820
X-WR-CALDESC:Every month\, retirees meet for breakfast to hear presenters\,
  share stories\, \nand learn more about retirement.\n
X-WR-RELCALID:e070fed9ce211b5172c6dca42c465756
X-WR-TIMEZONE:America/Chicago
BEGIN:VTIMEZONE
TZID:America/Chicago
BEGIN:STANDARD
TZNAME:CST
DTSTART:20281105T020000
TZOFFSETFROM:-0500
TZOFFSETTO:-0600
RDATE:20291104T020000
RDATE:20301103T020000
END:STANDARD
BEGIN:DAYLIGHT
TZNAME:CDT
DTSTART:20290311T020000
TZOFFSETFROM:-0600
TZOFFSETTO:-0500
RDATE:20300310T020000
END:DAYLIGHT
END:VTIMEZONE
BEGIN:VEVENT
UID:0d47aa20-23f4-4800-b35f-2f55b48fca5e
DTSTAMP:20260425T171045Z
DESCRIPTION:Every month\, retirees meet for breakfast to hear presenters\, 
 share stories\, \nand learn more about retirement.\n
DTSTART;TZID=America/Chicago:20290702T070000
DTEND;TZID=America/Chicago:20290702T083000
LOCATION:Virginia's Cafe at 3820 Cornhusker Lincoln\, NE
SUMMARY:Army National Guard Retiree Breakfast
END:VEVENT
END:VCALENDAR
