BEGIN:VCALENDAR
VERSION:2.0
PRODID:-//www.neguard.org//NONSGML kigkonsult.se iCalcreator 2.30.10//
CALSCALE:GREGORIAN
METHOD:PUBLISH
UID:541040b8-a8ac-4f8a-a187-f2f308c43bb3
X-WR-CALDESC:Every month\, retirees meet for breakfast to hear presenters\,
  share stories\, and learn more about retirement.
X-WR-RELCALID:71f63e5055e8175da51a099a4c5a6d28
X-WR-TIMEZONE:America/Chicago
BEGIN:VTIMEZONE
TZID:America/Chicago
BEGIN:STANDARD
TZNAME:CST
DTSTART:20281105T020000
TZOFFSETFROM:-0500
TZOFFSETTO:-0600
RDATE:20291104T020000
RDATE:20301103T020000
END:STANDARD
BEGIN:DAYLIGHT
TZNAME:CDT
DTSTART:20290311T020000
TZOFFSETFROM:-0600
TZOFFSETTO:-0500
RDATE:20300310T020000
END:DAYLIGHT
END:VTIMEZONE
BEGIN:VEVENT
UID:037fca73-0023-44f3-a2e2-ccb36b309d02
DTSTAMP:20260425T153346Z
DESCRIPTION:Every month\, retirees meet for breakfast to hear presenters\, 
 share stories\, and learn more about retirement.
DTSTART;TZID=America/Chicago:20290609T080000
DTEND;TZID=America/Chicago:20290609T090000
LOCATION:Lincoln Highway Diner\, North Platte Airport\, North Platte\, NE
SUMMARY:North Platte Retiree Breakfast
END:VEVENT
END:VCALENDAR
