BEGIN:VCALENDAR
VERSION:2.0
PRODID:-//www.neguard.org//NONSGML kigkonsult.se iCalcreator 2.30.10//
CALSCALE:GREGORIAN
METHOD:PUBLISH
UID:1662f230-b66f-498e-a39e-7a8d07821c01
X-WR-CALDESC:Every month\, retirees meet for breakfast to hear presenters\,
  share stories\, \nand learn more about retirement.\n
X-WR-RELCALID:3951ee611647db4c75c9257a7a7b8f1f
X-WR-TIMEZONE:America/Chicago
BEGIN:VTIMEZONE
TZID:America/Chicago
BEGIN:STANDARD
TZNAME:CST
DTSTART:20281105T020000
TZOFFSETFROM:-0500
TZOFFSETTO:-0600
RDATE:20291104T020000
RDATE:20301103T020000
END:STANDARD
BEGIN:DAYLIGHT
TZNAME:CDT
DTSTART:20290311T020000
TZOFFSETFROM:-0600
TZOFFSETTO:-0500
RDATE:20300310T020000
END:DAYLIGHT
END:VTIMEZONE
BEGIN:VEVENT
UID:d5e60cde-ef2c-439b-9301-373a2e3890ee
DTSTAMP:20260425T153230Z
DESCRIPTION:Every month\, retirees meet for breakfast to hear presenters\, 
 share stories\, \nand learn more about retirement.\n
DTSTART;TZID=America/Chicago:20290604T070000
DTEND;TZID=America/Chicago:20290604T083000
LOCATION:Virginia's Cafe at 3820 Cornhusker Lincoln\, NE
SUMMARY:Army National Guard Retiree Breakfast
END:VEVENT
END:VCALENDAR
