BEGIN:VCALENDAR
VERSION:2.0
PRODID:-//www.neguard.org//NONSGML kigkonsult.se iCalcreator 2.30.10//
CALSCALE:GREGORIAN
METHOD:PUBLISH
UID:c886b2d2-4dc2-4ad7-be97-905a63dc898e
X-WR-CALDESC:Every month\, retirees meet for breakfast to hear presenters\,
  share stories\, and learn more about retirement.
X-WR-RELCALID:96d25a5a300363c5b92dbcfd3df9bf21
X-WR-TIMEZONE:America/Chicago
BEGIN:VTIMEZONE
TZID:America/Chicago
BEGIN:STANDARD
TZNAME:CST
DTSTART:20281105T020000
TZOFFSETFROM:-0500
TZOFFSETTO:-0600
RDATE:20291104T020000
RDATE:20301103T020000
END:STANDARD
BEGIN:DAYLIGHT
TZNAME:CDT
DTSTART:20290311T020000
TZOFFSETFROM:-0600
TZOFFSETTO:-0500
RDATE:20300310T020000
END:DAYLIGHT
END:VTIMEZONE
BEGIN:VEVENT
UID:667988d5-5c3c-428e-86fe-45e91f6bde42
DTSTAMP:20260425T141303Z
DESCRIPTION:Every month\, retirees meet for breakfast to hear presenters\, 
 share stories\, and learn more about retirement.
DTSTART;TZID=America/Chicago:20290512T080000
DTEND;TZID=America/Chicago:20290512T090000
LOCATION:Lincoln Highway Diner\, North Platte Airport\, North Platte\, NE
SUMMARY:North Platte Retiree Breakfast
END:VEVENT
END:VCALENDAR
