BEGIN:VCALENDAR
VERSION:2.0
PRODID:-//www.neguard.org//NONSGML kigkonsult.se iCalcreator 2.30.10//
CALSCALE:GREGORIAN
METHOD:PUBLISH
UID:84fe2c43-a6e7-4a67-bd8f-3160ff41ef13
X-WR-CALDESC:
X-WR-RELCALID:563729cd673ed35cb4f64430d1fc6dde
X-WR-TIMEZONE:America/Chicago
BEGIN:VTIMEZONE
TZID:America/Chicago
BEGIN:STANDARD
TZNAME:CST
DTSTART:20281105T020000
TZOFFSETFROM:-0500
TZOFFSETTO:-0600
RDATE:20291104T020000
END:STANDARD
BEGIN:DAYLIGHT
TZNAME:CDT
DTSTART:20290311T020000
TZOFFSETFROM:-0600
TZOFFSETTO:-0500
RDATE:20300310T020000
END:DAYLIGHT
END:VTIMEZONE
BEGIN:VEVENT
UID:376704ba-b1b2-4c53-9c2d-182c9fef2abe
DTSTAMP:20260425T140835Z
DESCRIPTION:
DTSTART;TZID=America/Chicago:20290501T164500
DTEND;TZID=America/Chicago:20290501T174500
LOCATION:2400 NW 24th St.\, Lincoln\, NE 68524 US
SUMMARY:NGA-NE BOG Monthly BOG Meeting
END:VEVENT
END:VCALENDAR
