BEGIN:VCALENDAR
VERSION:2.0
PRODID:-//www.neguard.org//NONSGML kigkonsult.se iCalcreator 2.30.10//
CALSCALE:GREGORIAN
METHOD:PUBLISH
UID:eb8d142c-1354-4757-bdb0-6ee963f60b4f
X-WR-CALDESC:Every month\, retirees meet for breakfast to hear presenters\,
  share stories\, \nand learn more about retirement.\n\n\n
X-WR-RELCALID:75f7e1b15aa618e75fc77d840a9bbd3d
X-WR-TIMEZONE:America/Chicago
BEGIN:VTIMEZONE
TZID:America/Chicago
BEGIN:STANDARD
TZNAME:CST
DTSTART:20281105T020000
TZOFFSETFROM:-0500
TZOFFSETTO:-0600
RDATE:20291104T020000
END:STANDARD
BEGIN:DAYLIGHT
TZNAME:CDT
DTSTART:20290311T020000
TZOFFSETFROM:-0600
TZOFFSETTO:-0500
RDATE:20300310T020000
END:DAYLIGHT
END:VTIMEZONE
BEGIN:VEVENT
UID:9fb91cd2-c6d5-47eb-8cbc-0c8798f5d393
DTSTAMP:20260425T123259Z
DESCRIPTION:Every month\, retirees meet for breakfast to hear presenters\, 
 share stories\, \nand learn more about retirement.\n\n\n
DTSTART;TZID=America/Chicago:20290430T080000
DTEND;TZID=America/Chicago:20290430T090000
LOCATION:Stauffers Cafe - 5600 S. 48th Street
SUMMARY:Air National Guard Retiree Breakfast
END:VEVENT
END:VCALENDAR
