BEGIN:VCALENDAR
VERSION:2.0
PRODID:-//www.neguard.org//NONSGML kigkonsult.se iCalcreator 2.30.10//
CALSCALE:GREGORIAN
METHOD:PUBLISH
UID:67cee38f-8d53-4c97-a191-04ae9ac21eac
X-WR-CALDESC:Every month\, retirees meet for breakfast to hear presenters\,
  share stories\, \nand learn more about retirement.\n\n\n
X-WR-RELCALID:d442a4f7b050e6cd3ac92998ab3ca6ca
X-WR-TIMEZONE:America/Chicago
BEGIN:VTIMEZONE
TZID:America/Chicago
BEGIN:STANDARD
TZNAME:CST
DTSTART:20281105T020000
TZOFFSETFROM:-0500
TZOFFSETTO:-0600
RDATE:20291104T020000
END:STANDARD
BEGIN:DAYLIGHT
TZNAME:CDT
DTSTART:20290311T020000
TZOFFSETFROM:-0600
TZOFFSETTO:-0500
RDATE:20300310T020000
END:DAYLIGHT
END:VTIMEZONE
BEGIN:VEVENT
UID:05052d5e-e36d-4b02-ba20-45aec7bded4d
DTSTAMP:20260425T111028Z
DESCRIPTION:Every month\, retirees meet for breakfast to hear presenters\, 
 share stories\, \nand learn more about retirement.\n\n\n
DTSTART;TZID=America/Chicago:20290326T080000
DTEND;TZID=America/Chicago:20290326T090000
LOCATION:Stauffers Cafe - 5600 S. 48th Street
SUMMARY:Air National Guard Retiree Breakfast
END:VEVENT
END:VCALENDAR
