BEGIN:VCALENDAR
VERSION:2.0
PRODID:-//www.neguard.org//NONSGML kigkonsult.se iCalcreator 2.30.10//
CALSCALE:GREGORIAN
METHOD:PUBLISH
UID:e74438ff-59cb-4206-95ca-1af9274152b5
X-WR-CALDESC:
X-WR-RELCALID:5e17b89b05bf7f577c977c598f09b071
X-WR-TIMEZONE:America/Chicago
BEGIN:VTIMEZONE
TZID:America/Chicago
BEGIN:STANDARD
TZNAME:CST
DTSTART:20281105T020000
TZOFFSETFROM:-0500
TZOFFSETTO:-0600
RDATE:20291104T020000
END:STANDARD
BEGIN:DAYLIGHT
TZNAME:CDT
DTSTART:20280312T020000
TZOFFSETFROM:-0600
TZOFFSETTO:-0500
RDATE:20290311T020000
RDATE:20300310T020000
END:DAYLIGHT
END:VTIMEZONE
BEGIN:VEVENT
UID:949716ef-57c0-4803-a7a3-ce18e6729110
DTSTAMP:20260421T115432Z
DESCRIPTION:
DTSTART;TZID=America/Chicago:20290102T164500
DTEND;TZID=America/Chicago:20290102T174500
LOCATION:2400 NW 24th St.\, Lincoln\, NE 68524 US
SUMMARY:NGA-NE BOG Monthly BOG Meeting
END:VEVENT
END:VCALENDAR
