BEGIN:VCALENDAR
VERSION:2.0
PRODID:-//www.neguard.org//NONSGML kigkonsult.se iCalcreator 2.30.10//
CALSCALE:GREGORIAN
METHOD:PUBLISH
UID:680cc837-752c-4f9e-8431-bb2cfeb6a695
X-WR-CALDESC:
X-WR-RELCALID:67464ef5b622ba2ce3b7dffe909c18c6
X-WR-TIMEZONE:America/Chicago
BEGIN:VTIMEZONE
TZID:America/Chicago
BEGIN:STANDARD
TZNAME:CST
DTSTART:20281105T020000
TZOFFSETFROM:-0500
TZOFFSETTO:-0600
RDATE:20291104T020000
END:STANDARD
BEGIN:DAYLIGHT
TZNAME:CDT
DTSTART:20280312T020000
TZOFFSETFROM:-0600
TZOFFSETTO:-0500
RDATE:20290311T020000
RDATE:20300310T020000
END:DAYLIGHT
END:VTIMEZONE
BEGIN:VEVENT
UID:0e17df29-14f0-4ccf-a67c-242d3b887ee3
DTSTAMP:20260421T101103Z
DESCRIPTION:
DTSTART;TZID=America/Chicago:20281205T164500
DTEND;TZID=America/Chicago:20281205T174500
LOCATION:2400 NW 24th St.\, Lincoln\, NE 68524 US
SUMMARY:NGA-NE BOG Monthly BOG Meeting
END:VEVENT
END:VCALENDAR
